BEGIN:VCALENDAR
VERSION:2.0
PRODID:-//Library Market//iCal Export//EN
BEGIN:VEVENT
SUMMARY:Community Room Reserved
UID:7279
DTSTAMP:20260422T171000Z
DTSTART:20260427T230000Z
DTEND:20260428T000000Z
LOCATION:273 Beaver Dam Rd, Brookhaven, NY 11719, United States
ROOM: Community Room
DESCRIPTION:Community Room Reserved
URL:https://brookhavenfree.librarycalendar.com/event/community-room-reserv
 ed-7279
END:VEVENT
END:VCALENDAR
